BEGIN:VCALENDAR
VERSION:2.0
PRODID:-//ChamberMaster//Event Calendar 2.0//EN
METHOD:PUBLISH
X-PUBLISHED-TTL:P3D
REFRESH-INTERVAL:P3D
CALSCALE:GREGORIAN
BEGIN:VEVENT
DTSTART:20130318T233000Z
DTEND:20130319T013000Z
X-MICROSOFT-CDO-ALLDAYEVENT:FALSE
SUMMARY:Scrabble Tournament
DESCRIPTION:Scrabble Tournament
X-ALT-DESC;FMTTYPE=text/html:Scrabble Tournament&nbsp\;&nbsp\;&nbsp\;&nbsp\;
LOCATION:Seward Memorial Library 233 South 5th St. Seward
UID:e.865.1759
SEQUENCE:3
DTSTAMP:20260422T044454Z
URL:https://business.cultivatesewardcounty.com/events/details/scrabble-tournament-03-18-2013-1759
END:VEVENT

END:VCALENDAR
