BEGIN:VCALENDAR
VERSION:2.0
PRODID:-//ChamberMaster//Event Calendar 2.0//EN
METHOD:PUBLISH
X-PUBLISHED-TTL:P3D
REFRESH-INTERVAL:P3D
CALSCALE:GREGORIAN
BEGIN:VEVENT
DTSTART:20121031T210000Z
DTEND:20121101T000000Z
X-MICROSOFT-CDO-ALLDAYEVENT:FALSE
SUMMARY:Scare on the Square
DESCRIPTION:The 5th Annual Scare on the Square sponsored by Seward County CASA will be October 31. This event offers family-friendly activities in a safe environment\, right in the center of town. Musical entertainment and fun activities for children to participate in and food vendors. Local businesses will have booths for children to trick or treat at.
X-ALT-DESC;FMTTYPE=text/html:The 5th Annual Scare on the Square sponsored by Seward County CASA will be October 31. This event offers family-friendly activities in a safe environment\, right in the center of town. Musical entertainment and fun activities for children to participate in and food vendors. Local businesses will have booths for children to trick or treat at. 
LOCATION:Courthouse Square.
UID:e.865.1704
SEQUENCE:3
DTSTAMP:20260422T112837Z
URL:https://business.cultivatesewardcounty.com/events/details/scare-on-the-square-10-31-2012-1704
END:VEVENT

END:VCALENDAR
