BEGIN:VCALENDAR
VERSION:2.0
PRODID:-//ChamberMaster//Event Calendar 2.0//EN
METHOD:PUBLISH
X-PUBLISHED-TTL:P3D
REFRESH-INTERVAL:P3D
CALSCALE:GREGORIAN
BEGIN:VEVENT
DTSTART:20140405T140000Z
DTEND:20140405T160000Z
X-MICROSOFT-CDO-ALLDAYEVENT:FALSE
SUMMARY:Saturday Art School (Grades 1st & 2nd)
DESCRIPTION:Saturday Art School  -  Grades 1st & 2nd\n\n\n\nhttp://www.cune.edu
X-ALT-DESC;FMTTYPE=text/html:Saturday Art School&nbsp\; -&nbsp\; Grades 1st &amp\; 2nd<br />\n<br />\n<a href="http://www.cune.edu">http://www.cune.edu</a>
LOCATION:Concordia University Brommer Art Center 800 N. Columbia Seward\, NE
UID:e.865.3521
SEQUENCE:3
DTSTAMP:20260421T124737Z
URL:https://business.cultivatesewardcounty.com/events/details/saturday-art-school-grades-1st-2nd-04-05-2014-3521
END:VEVENT

END:VCALENDAR
