BEGIN:VCALENDAR
VERSION:2.0
PRODID:-//ChamberMaster//Event Calendar 2.0//EN
METHOD:PUBLISH
X-PUBLISHED-TTL:P3D
REFRESH-INTERVAL:P3D
CALSCALE:GREGORIAN
BEGIN:VEVENT
DTSTART:20140412T140000Z
DTEND:20140412T160000Z
X-MICROSOFT-CDO-ALLDAYEVENT:FALSE
SUMMARY:Saturday Art School - 3rd & 4th grades
DESCRIPTION:Saturday Art School  -  3rd & 4th Grades\n\n\n\nhttp://www.cune.edu
X-ALT-DESC;FMTTYPE=text/html:Saturday Art School&nbsp\; -&nbsp\; 3rd &amp\; 4th Grades<br />\n<br />\n<a href="http://www.cune.edu">http://www.cune.edu</a>
LOCATION:Concordia University Brommer Art Center 800 North Columbia (main campus) Seward\, NE
UID:e.865.3524
SEQUENCE:3
DTSTAMP:20260421T112755Z
URL:https://business.cultivatesewardcounty.com/events/details/saturday-art-school-3rd-4th-grades-04-12-2014-3524
END:VEVENT

END:VCALENDAR
