BEGIN:VCALENDAR
VERSION:2.0
PRODID:-//ChamberMaster//Event Calendar 2.0//EN
METHOD:PUBLISH
X-PUBLISHED-TTL:P3D
REFRESH-INTERVAL:P3D
CALSCALE:GREGORIAN
BEGIN:VEVENT
DTSTART:20140329T140000Z
DTEND:20140329T160000Z
X-MICROSOFT-CDO-ALLDAYEVENT:FALSE
SUMMARY:Saturday Art School
DESCRIPTION:Saturday Art School  (Kindergarten)\n\n\n\nhttp://www.cune.edu
X-ALT-DESC;FMTTYPE=text/html:Saturday Art School&nbsp\; (Kindergarten)<br />\n<br />\n<a href="http://www.cune.edu">http://www.cune.edu</a>
LOCATION:Concordia University Broomer Art Center 800 N Columbia (main campus) Seward\, NE
UID:e.865.3520
SEQUENCE:3
DTSTAMP:20260421T125951Z
URL:https://business.cultivatesewardcounty.com/events/details/saturday-art-school-03-29-2014-3520
END:VEVENT

END:VCALENDAR
