BEGIN:VCALENDAR
VERSION:2.0
PRODID:-//ChamberMaster//Event Calendar 2.0//EN
METHOD:PUBLISH
X-PUBLISHED-TTL:P3D
REFRESH-INTERVAL:P3D
CALSCALE:GREGORIAN
BEGIN:VEVENT
DTSTART:20131212T000000Z
DTEND:20131212T020000Z
X-MICROSOFT-CDO-ALLDAYEVENT:FALSE
SUMMARY:Santa House Open
DESCRIPTION:Bring the kids to meet Santa at the Santa House on the downtown square - Seward\, NE\n\n	\n\n	Bring your camera!!
X-ALT-DESC;FMTTYPE=text/html:<p>\n	Bring the kids to meet Santa at the Santa House on the downtown square - Seward\, NE<br />\n	<br />\n	Bring your camera!!</p>\n
LOCATION:North side of the Seward County Courthouse on the Square - Seward\, NE
UID:e.865.3335
SEQUENCE:3
DTSTAMP:20260421T175749Z
URL:https://business.cultivatesewardcounty.com/events/details/santa-house-open-12-11-2013-3335
END:VEVENT

END:VCALENDAR
