BEGIN:VCALENDAR
VERSION:2.0
PRODID:-//ChamberMaster//Event Calendar 2.0//EN
METHOD:PUBLISH
X-PUBLISHED-TTL:P3D
REFRESH-INTERVAL:P3D
CALSCALE:GREGORIAN
BEGIN:VEVENT
DTSTART:20121202T030000Z
DTEND:20121202T050000Z
X-MICROSOFT-CDO-ALLDAYEVENT:FALSE
SUMMARY:Rudolph's Red Nose Run - 2012
DESCRIPTION:Seward Area Chamber of Commerce is hosting Rudolph's Red Nose Run - A 5K Run and a 1 Mile Fun Run. Fun Run begins at 9:00 am\; 5K at 9:30 am. Costumes encouraged\, but not required.
X-ALT-DESC;FMTTYPE=text/html:Seward Area Chamber of Commerce is hosting Rudolph&#39\;s Red Nose Run - A 5K Run and a 1 Mile Fun Run. Fun Run begins at 9:00 am\; 5K at 9:30 am. Costumes encouraged\, but not required.
LOCATION:Seward Middle School\, 2401 Karol Kay Blvd.
UID:e.865.1734
SEQUENCE:3
DTSTAMP:20260422T083706Z
URL:https://business.cultivatesewardcounty.com/events/details/rudolph-s-red-nose-run-2012-12-01-2012-1734
END:VEVENT

END:VCALENDAR
