BEGIN:VCALENDAR
VERSION:2.0
PRODID:-//ChamberMaster//Event Calendar 2.0//EN
METHOD:PUBLISH
X-PUBLISHED-TTL:P3D
REFRESH-INTERVAL:P3D
CALSCALE:GREGORIAN
BEGIN:VEVENT
DTSTART:20131207T150000Z
DTEND:20131207T170000Z
X-MICROSOFT-CDO-ALLDAYEVENT:FALSE
SUMMARY:Rudolph's Red Nose Run
DESCRIPTION:Join the Seward Area Chamber of Commerce for the Second Annual Rudolph's Red Nose Run on Saturday\, December 7th. 5K and 1 Mile. Run or Walk. Last year was great fun!! More fun this year! Check back for more details to come soon.
X-ALT-DESC;FMTTYPE=text/html:Join the Seward Area Chamber of Commerce for the Second Annual Rudolph&#39\;s Red Nose Run on Saturday\, December 7th. 5K and 1 Mile. Run or Walk. Last year was great fun!! More fun this year! Check back for more details to come soon.
LOCATION:Seward Middle School 2401 Karol Kay Blvd. Seward\, NE
UID:e.865.2871
SEQUENCE:3
DTSTAMP:20260421T175913Z
URL:https://business.cultivatesewardcounty.com/events/details/rudolph-s-red-nose-run-12-07-2013-2871
END:VEVENT

END:VCALENDAR
