BEGIN:VCALENDAR
VERSION:2.0
PRODID:-//ChamberMaster//Event Calendar 2.0//EN
METHOD:PUBLISH
X-PUBLISHED-TTL:P3D
REFRESH-INTERVAL:P3D
CALSCALE:GREGORIAN
BEGIN:VEVENT
DTSTART:20131202T010000Z
DTEND:20131202T020000Z
X-MICROSOFT-CDO-ALLDAYEVENT:FALSE
SUMMARY:Rotary's Holiday Home Outdoor Light Decorating Contest Judging
DESCRIPTION:Rotary's Holiday Home Outdoor Light Decorating Contest Judging.  Winners will be announced at 7:00 pm at the Civic Center.\n\n\n\nThis event is co-sponsored by the Seward High School FCCLA.
X-ALT-DESC;FMTTYPE=text/html:Rotary&#39\;s Holiday Home Outdoor Light Decorating Contest Judging.&nbsp\; Winners will be announced at 7:00 pm at the Civic Center.<br />\n<br />\nThis event is co-sponsored by the Seward High School FCCLA.
LOCATION:Winners announced at Civic Center at 616 Bradford St.\, Seward\, NE
UID:e.865.3413
SEQUENCE:3
DTSTAMP:20260421T163326Z
URL:https://business.cultivatesewardcounty.com/events/details/rotary-s-holiday-home-outdoor-light-decorating-contest-judging-12-01-2013-3413
END:VEVENT

END:VCALENDAR
