BEGIN:VCALENDAR
VERSION:2.0
PRODID:-//ChamberMaster//Event Calendar 2.0//EN
METHOD:PUBLISH
X-PUBLISHED-TTL:P3D
REFRESH-INTERVAL:P3D
CALSCALE:GREGORIAN
BEGIN:VEVENT
DTSTART:20131029T230000Z
DTEND:20131030T000000Z
X-MICROSOFT-CDO-ALLDAYEVENT:FALSE
SUMMARY:Rotary Club Halloween Costume Contest - MOVED INDOORS
DESCRIPTION:Rotary Club Halloween Costume Contest for ages 0 - 12 years old
X-ALT-DESC;FMTTYPE=text/html:Rotary Club Halloween Costume Contest for ages 0 - 12 years old
LOCATION:Civic Center Auditorium 616 Bradford Street Seward\, NE
UID:e.865.2923
SEQUENCE:3
DTSTAMP:20260421T204942Z
URL:https://business.cultivatesewardcounty.com/events/details/rotary-club-halloween-costume-contest-moved-indoors-10-29-2013-2923
END:VEVENT

END:VCALENDAR
