BEGIN:VCALENDAR
VERSION:2.0
PRODID:-//ChamberMaster//Event Calendar 2.0//EN
METHOD:PUBLISH
X-PUBLISHED-TTL:P3D
REFRESH-INTERVAL:P3D
CALSCALE:GREGORIAN
BEGIN:VEVENT
DTSTART:20131214T150000Z
DTEND:20131214T180000Z
X-MICROSOFT-CDO-ALLDAYEVENT:FALSE
SUMMARY:Rotary "Breakfast with Santa" with entertainment
DESCRIPTION:Rotary Club "Breakfast with Santa"   This event is also co-sponsored by Seward High School  FCCLA.  Breakfast includes fruit\, juice\, donuts\, milk and candy.  There will be door prizes and entertainment from 9:00 am to 10:00 am.  Children will get to visit with Santa and Mrs. Claus.
X-ALT-DESC;FMTTYPE=text/html:Rotary Club &quot\;Breakfast with Santa&quot\;&nbsp\;&nbsp\; This event is also co-sponsored by Seward High School&nbsp\; FCCLA.&nbsp\; Breakfast includes fruit\, juice\, donuts\, milk and candy.&nbsp\; There will be door prizes and entertainment from 9:00 am to 10:00 am.&nbsp\; Children will get to visit with Santa and Mrs. Claus.
LOCATION:Civic Center 616 Bradford St. Seward\, NE
UID:e.865.3396
SEQUENCE:3
DTSTAMP:20260421T180138Z
URL:https://business.cultivatesewardcounty.com/events/details/rotary-breakfast-with-santa-with-entertainment-12-14-2013-3396
END:VEVENT

END:VCALENDAR
