BEGIN:VCALENDAR
VERSION:2.0
PRODID:-//ChamberMaster//Event Calendar 2.0//EN
METHOD:PUBLISH
X-PUBLISHED-TTL:P3D
REFRESH-INTERVAL:P3D
CALSCALE:GREGORIAN
BEGIN:VEVENT
DTSTART:20131215T210000Z
DTEND:20131215T230000Z
X-MICROSOFT-CDO-ALLDAYEVENT:FALSE
SUMMARY:Rivoli Theater FREE MOVIE
DESCRIPTION:FREE MOVIE at the Rivoli Theater -  name of movie to be announced later
X-ALT-DESC;FMTTYPE=text/html:FREE MOVIE at the Rivoli Theater -&nbsp\; name of movie to be announced later
LOCATION:Rivoli Theater 533 Main Street Seward\, NE
UID:e.865.3373
SEQUENCE:3
DTSTAMP:20260421T163352Z
URL:https://business.cultivatesewardcounty.com/events/details/rivoli-theater-free-movie-12-15-2013-3373
END:VEVENT

END:VCALENDAR
