BEGIN:VCALENDAR
VERSION:2.0
PRODID:-//ChamberMaster//Event Calendar 2.0//EN
METHOD:PUBLISH
X-PUBLISHED-TTL:P3D
REFRESH-INTERVAL:P3D
CALSCALE:GREGORIAN
BEGIN:VEVENT
DTSTART:20110524T180000Z
DTEND:20110524T190000Z
X-MICROSOFT-CDO-ALLDAYEVENT:FALSE
SUMMARY:Ribbon Cutting - Disc Golf Course
DESCRIPTION:The Seward Area Chamber of Commerce Ambassadors and VIPs will host a "Ribbon Cutting" for the Kiwanis Family Disc Golf Course.
X-ALT-DESC;FMTTYPE=text/html:The Seward Area Chamber of Commerce Ambassadors and VIPs will host a &quot\;Ribbon Cutting&quot\; for the Kiwanis Family Disc Golf Course.
LOCATION:Plum Creek Park in Seward\, NE (north Karol Kay Blvd)
UID:e.865.1087
SEQUENCE:3
DTSTAMP:20260424T231342Z
URL:https://business.cultivatesewardcounty.com/events/details/ribbon-cutting-disc-golf-course-05-24-2011-1087
END:VEVENT

END:VCALENDAR
