BEGIN:VCALENDAR
VERSION:2.0
PRODID:-//ChamberMaster//Event Calendar 2.0//EN
METHOD:PUBLISH
X-PUBLISHED-TTL:P3D
REFRESH-INTERVAL:P3D
CALSCALE:GREGORIAN
BEGIN:VEVENT
DTSTART;VALUE=DATE:20120505
DTEND;VALUE=DATE:20120506
TRANSP:TRANSPARENT
X-MICROSOFT-CDO-ALLDAYEVENT:TRUE
SUMMARY:RELAY FOR LIFE FUNDRAISER
DESCRIPTION:Relay for Life Fundraiser\n\n	Rummage Sale 8am - 6pm at the Armory\n\n	Home Grown Band  9pm - 1am at Sparetime Lounge\n\n	\n\n	All proceeds benefit the Relay For Life
X-ALT-DESC;FMTTYPE=text/html:<p>\n	Relay for Life Fundraiser</p>\n<p>\n	Rummage Sale 8am - 6pm at the Armory<br />\n	Home Grown Band&nbsp\; 9pm - 1am at Sparetime Lounge<br />\n	<br />\n	All proceeds benefit the Relay For Life</p>\n
LOCATION:
UID:e.865.1390
SEQUENCE:3
DTSTAMP:20260422T201001Z
URL:https://business.cultivatesewardcounty.com/events/details/relay-for-life-fundraiser-05-05-2012-1390
END:VEVENT

END:VCALENDAR
