BEGIN:VCALENDAR
VERSION:2.0
PRODID:-//ChamberMaster//Event Calendar 2.0//EN
METHOD:PUBLISH
X-PUBLISHED-TTL:P3D
REFRESH-INTERVAL:P3D
CALSCALE:GREGORIAN
BEGIN:VEVENT
DTSTART:20140325T190000Z
DTEND:20140326T000000Z
X-MICROSOFT-CDO-ALLDAYEVENT:FALSE
SUMMARY:Regional Job Fair
DESCRIPTION:Regional Job Fair - a joint effort between York\, Seward and Fillmore Counties. \n\nBusinesses will be organized by the following groups:  Agriculture\, Food & National Resources\; Business\, Marketing & Management\; Communications and Information Systems\; Health Services\; Human Services & Education\; and Skilled & Technical Sciences.   Also available at the event are resume reviews and application area. \n\nhttp://www.sewardne.com
X-ALT-DESC;FMTTYPE=text/html:Regional Job Fair - a joint effort between York\, Seward and Fillmore Counties.&nbsp\;<br />\nBusinesses will be organized by the following groups:&nbsp\; Agriculture\, Food &amp\; National Resources\; Business\, Marketing &amp\; Management\; Communications and Information Systems\; Health Services\; Human Services &amp\; Education\; and Skilled &amp\; Technical Sciences.&nbsp\;&nbsp\; Also available at the event are resume reviews and application area.&nbsp\;<br />\n<a href="http://www.sewardne.com">http://www.sewardne.com</a>
LOCATION:York College Campbell Center 1 block west of 10th & Delaware York\, NE
UID:e.865.3537
SEQUENCE:3
DTSTAMP:20260421T130125Z
URL:https://business.cultivatesewardcounty.com/events/details/regional-job-fair-03-25-2014-3537
END:VEVENT

END:VCALENDAR
