BEGIN:VCALENDAR
VERSION:2.0
PRODID:-//ChamberMaster//Event Calendar 2.0//EN
METHOD:PUBLISH
X-PUBLISHED-TTL:P3D
REFRESH-INTERVAL:P3D
CALSCALE:GREGORIAN
BEGIN:VEVENT
DTSTART;VALUE=DATE:20140517
DTEND;VALUE=DATE:20140518
TRANSP:TRANSPARENT
X-MICROSOFT-CDO-ALLDAYEVENT:TRUE
SUMMARY:Regal Awards NIT Baseball Tournament
DESCRIPTION:Regal Awards NIT Baseball Tournament for boys 11u and 12u  -  Saturday\, May 17th is pool play and Sunday\, May 18th is bracket play.
X-ALT-DESC;FMTTYPE=text/html:Regal Awards NIT Baseball Tournament for boys 11u and 12u&nbsp\; -&nbsp\; Saturday\, May 17th is pool play and Sunday\, May 18th is bracket play.
LOCATION:Plum Creek Sports Complex 2222 Karol Kay Blvd. Seward\, NE
UID:e.865.3860
SEQUENCE:3
DTSTAMP:20260421T094823Z
URL:https://business.cultivatesewardcounty.com/events/details/regal-awards-nit-baseball-tournament-05-17-2014-3860
END:VEVENT

END:VCALENDAR
