BEGIN:VCALENDAR
VERSION:2.0
PRODID:-//ChamberMaster//Event Calendar 2.0//EN
METHOD:PUBLISH
X-PUBLISHED-TTL:P3D
REFRESH-INTERVAL:P3D
CALSCALE:GREGORIAN
BEGIN:VEVENT
DTSTART;VALUE=DATE:20130518
DTEND;VALUE=DATE:20130520
TRANSP:TRANSPARENT
X-MICROSOFT-CDO-ALLDAYEVENT:TRUE
SUMMARY:Regal Awards Global NIT
DESCRIPTION:Regal Awards Global Sports WS Qualifier - Regal Awards NIT - Double Point Weekend\n\n\n\nAges 10 - 14\n\n\n\n3 game guarantee\, maximum of 24 teams\; age groups will be filled on a first come\, first serve basis.         Nebraska USSSA Baseball
X-ALT-DESC;FMTTYPE=text/html:Regal Awards Global Sports WS Qualifier - Regal Awards NIT - Double Point Weekend<br />\n<br />\nAges 10 - 14<br />\n<br />\n3 game guarantee\, maximum of 24 teams\; age groups will be filled on a first come\, first serve basis.&nbsp\;&nbsp\;&nbsp\;&nbsp\;&nbsp\;&nbsp\;&nbsp\;&nbsp\; Nebraska USSSA Baseball
LOCATION:Plum Creek Sports Complex 2222 Karol Kay Blvd. Seward\, NE
UID:e.865.2101
SEQUENCE:3
DTSTAMP:20260422T014557Z
URL:https://business.cultivatesewardcounty.com/events/details/regal-awards-global-nit-05-18-2013-2101
END:VEVENT

END:VCALENDAR
