BEGIN:VCALENDAR
VERSION:2.0
PRODID:-//ChamberMaster//Event Calendar 2.0//EN
METHOD:PUBLISH
X-PUBLISHED-TTL:P3D
REFRESH-INTERVAL:P3D
CALSCALE:GREGORIAN
BEGIN:VEVENT
DTSTART:20131109T190000Z
DTEND:20131109T230000Z
X-MICROSOFT-CDO-ALLDAYEVENT:FALSE
SUMMARY:Red Path Second Saturday Art Walk
DESCRIPTION:Red Path Gallery Second Saturday Art Walk  -  meet the artists at Red Path Gallery.  Enjoy music and a Nebraska Wine or Craft Beer.\n\n\n\nhttp://www.redpathgallery.com
X-ALT-DESC;FMTTYPE=text/html:Red Path Gallery Second Saturday Art Walk&nbsp\; -&nbsp\; meet the artists at Red Path Gallery.&nbsp\; Enjoy music and a Nebraska Wine or Craft Beer.<br />\n<br />\n<a href="http://www.redpathgallery.com">http://www.redpathgallery.com</a>
LOCATION:Red Path Gallery & Wine Tasting Room 514 Seward St Seward\, NE
UID:e.865.3344
SEQUENCE:3
DTSTAMP:20260421T175605Z
URL:https://business.cultivatesewardcounty.com/events/details/red-path-second-saturday-art-walk-11-09-2013-3344
END:VEVENT

END:VCALENDAR
