BEGIN:VCALENDAR
VERSION:2.0
PRODID:-//ChamberMaster//Event Calendar 2.0//EN
METHOD:PUBLISH
X-PUBLISHED-TTL:P3D
REFRESH-INTERVAL:P3D
CALSCALE:GREGORIAN
BEGIN:VEVENT
DTSTART:20140302T013000Z
DTEND:20140302T023000Z
X-MICROSOFT-CDO-ALLDAYEVENT:FALSE
SUMMARY:Red Path Gallery Video Artist Crystal Bauer presentation
DESCRIPTION:Red Path Gallery Video Artist Crystal Bauer will be presenting her "conceptual film and installation" called "For Joe & Jane."\n\n\n\nhttp://www.redpathgallery.com
X-ALT-DESC;FMTTYPE=text/html:Red Path Gallery Video Artist Crystal Bauer will be presenting her &quot\;conceptual film and installation&quot\; called &quot\;For Joe &amp\; Jane.&quot\;<br />\n<br />\n<a href="http://www.redpathgallery.com">http://www.redpathgallery.com</a>
LOCATION:Red Path Gallery 514 Seward St. Seward\, NE
UID:e.865.3528
SEQUENCE:3
DTSTAMP:20260421T142219Z
URL:https://business.cultivatesewardcounty.com/events/details/red-path-gallery-video-artist-crystal-bauer-presentation-03-01-2014-3528
END:VEVENT

END:VCALENDAR
