BEGIN:VCALENDAR
VERSION:2.0
PRODID:-//ChamberMaster//Event Calendar 2.0//EN
METHOD:PUBLISH
X-PUBLISHED-TTL:P3D
REFRESH-INTERVAL:P3D
CALSCALE:GREGORIAN
BEGIN:VEVENT
DTSTART:20140712T000000Z
DTEND:20140712T013000Z
X-MICROSOFT-CDO-ALLDAYEVENT:FALSE
SUMMARY:Red Path Gallery "The Backroads" featuring Andrea von Kampen & Jimmy Steinauer
DESCRIPTION:Red Path Gallery "The Backroads" featuring Andrea von Kampen and Jimmy Steinauer\n\nhttp://www.redpathgallery.com
X-ALT-DESC;FMTTYPE=text/html:Red Path Gallery &quot\;The Backroads&quot\; featuring Andrea von Kampen and Jimmy Steinauer<br />\n<a href="http://www.redpathgallery.com">http://www.redpathgallery.com</a>
LOCATION:Red Path Gallery 514 Seward Street Seward\, NE
UID:e.865.3942
SEQUENCE:3
DTSTAMP:20260421T084113Z
URL:https://business.cultivatesewardcounty.com/events/details/red-path-gallery-the-backroads-featuring-andrea-von-kampen-jimmy-steinauer-07-11-2014-3942
END:VEVENT

END:VCALENDAR
