BEGIN:VCALENDAR
VERSION:2.0
PRODID:-//ChamberMaster//Event Calendar 2.0//EN
METHOD:PUBLISH
X-PUBLISHED-TTL:P3D
REFRESH-INTERVAL:P3D
CALSCALE:GREGORIAN
BEGIN:VEVENT
DTSTART:20140524T000000Z
DTEND:20140524T013000Z
X-MICROSOFT-CDO-ALLDAYEVENT:FALSE
SUMMARY:Red Path Gallery "The Backroads"
DESCRIPTION:Red Path Gallery "The Backroads" featuring Andrea von Kampen & Jimmy Steinauer - an acoustic duo\n\nhttp://www.redpathgallery.com
X-ALT-DESC;FMTTYPE=text/html:Red Path Gallery &quot\;The Backroads&quot\;&nbsp\;featuring Andrea von Kampen &amp\; Jimmy Steinauer - an acoustic duo<br />\n<a href="http://www.redpathgallery.com">http://www.redpathgallery.com</a>
LOCATION:Red Path Gallery 514 Seward St. Seward\, NE
UID:e.865.3852
SEQUENCE:3
DTSTAMP:20260421T100243Z
URL:https://business.cultivatesewardcounty.com/events/details/red-path-gallery-the-backroads-05-23-2014-3852
END:VEVENT

END:VCALENDAR
