BEGIN:VCALENDAR
VERSION:2.0
PRODID:-//ChamberMaster//Event Calendar 2.0//EN
METHOD:PUBLISH
X-PUBLISHED-TTL:P3D
REFRESH-INTERVAL:P3D
CALSCALE:GREGORIAN
BEGIN:VEVENT
DTSTART:20131214T190000Z
DTEND:20131214T230000Z
X-MICROSOFT-CDO-ALLDAYEVENT:FALSE
SUMMARY:Red Path Gallery Second Saturday Art Walk and Holiday Party
DESCRIPTION:Red Path Gallery Second Saturday Art Walk and Holiday Party - meet the artists at Red Path Gallery and enjoy music and a Nebraska Wine or Craft Beer\n\n\n\nhttp://www.redpathgallery.com
X-ALT-DESC;FMTTYPE=text/html:Red Path Gallery Second Saturday Art Walk and Holiday Party - meet the artists at Red Path Gallery and enjoy music and a Nebraska Wine or Craft Beer<br />\n<br />\n<a href="http://www.redpathgallery.com">http://www.redpathgallery.com</a>
LOCATION:Red Path Gallery & Wine Tasting 514 Seward St Seward\, NE
UID:e.865.3346
SEQUENCE:3
DTSTAMP:20260421T163126Z
URL:https://business.cultivatesewardcounty.com/events/details/red-path-gallery-second-saturday-art-walk-and-holiday-party-12-14-2013-3346
END:VEVENT

END:VCALENDAR
