BEGIN:VCALENDAR
VERSION:2.0
PRODID:-//ChamberMaster//Event Calendar 2.0//EN
METHOD:PUBLISH
X-PUBLISHED-TTL:P3D
REFRESH-INTERVAL:P3D
CALSCALE:GREGORIAN
BEGIN:VEVENT
DTSTART:20140614T180000Z
DTEND:20140614T210000Z
X-MICROSOFT-CDO-ALLDAYEVENT:FALSE
SUMMARY:Red Path Gallery Second Saturday Art Walk
DESCRIPTION:Red Path Gallery Second Saturday Art Walk - "Meet and Greet" Nebraska artists.  Music provided by Marble Violin Studio and Stan Mitchell.  Cookies provided.     http://www.redpathgallery.com\n\n\n\n1:00 - 3:00 pm - Chapters Books and Gifts - Meet & Greet Authors\n\n1:00 - 4:00 pm - Second Saturday Art Walk - Meet & Greet Artists\n\n1:00 - 2:00 pm - Marble Violin will be playing\n\n2:00 - 4:00 pm - Jimmy Steinauer will be playing and singing
X-ALT-DESC;FMTTYPE=text/html:Red Path Gallery Second Saturday Art Walk - &quot\;Meet and Greet&quot\; Nebraska artists.&nbsp\; Music provided by Marble Violin Studio and Stan Mitchell.&nbsp\; Cookies provided.&nbsp\;&nbsp\;&nbsp\;&nbsp\; <a href="http://www.redpathgallery.com">http://www.redpathgallery.com</a><br />\n<br />\n1:00 - 3:00 pm - Chapters Books and Gifts - Meet &amp\; Greet Authors<br />\n1:00 - 4:00 pm - Second Saturday Art Walk - Meet &amp\; Greet Artists<br />\n1:00 - 2:00 pm - Marble Violin will be playing<br />\n2:00 - 4:00 pm - Jimmy Steinauer will be playing and singing
LOCATION:Red Path Gallery 514 Seward St. Seward\, NE
UID:e.865.3856
SEQUENCE:3
DTSTAMP:20260421T083604Z
URL:https://business.cultivatesewardcounty.com/events/details/red-path-gallery-second-saturday-art-walk-06-14-2014-3856
END:VEVENT

END:VCALENDAR
