BEGIN:VCALENDAR
VERSION:2.0
PRODID:-//ChamberMaster//Event Calendar 2.0//EN
METHOD:PUBLISH
X-PUBLISHED-TTL:P3D
REFRESH-INTERVAL:P3D
CALSCALE:GREGORIAN
BEGIN:VEVENT
DTSTART:20140510T180000Z
DTEND:20140510T210000Z
X-MICROSOFT-CDO-ALLDAYEVENT:FALSE
SUMMARY:Red Path Gallery Second Saturday Art Walk
DESCRIPTION:Red Path Gallery Second Saturday Art Walk  -  "Meet and Greet" Nebraska artists.  Music provided by Marble Violin Studio and Stan Mitchell.  Cookies provided.    http://www.redpathgallery.com
X-ALT-DESC;FMTTYPE=text/html:Red Path Gallery Second Saturday Art Walk&nbsp\; -&nbsp\; &quot\;Meet and Greet&quot\; Nebraska artists.&nbsp\; Music provided by Marble Violin Studio and Stan Mitchell.&nbsp\; Cookies provided.&nbsp\;&nbsp\;&nbsp\; <a href="http://www.redpathgallery.com">http://www.redpathgallery.com</a>
LOCATION:Red Path Gallery 514 Seward St. Seward\, NE
UID:e.865.3851
SEQUENCE:3
DTSTAMP:20260421T094020Z
URL:https://business.cultivatesewardcounty.com/events/details/red-path-gallery-second-saturday-art-walk-05-10-2014-3851
END:VEVENT

END:VCALENDAR
