BEGIN:VCALENDAR
VERSION:2.0
PRODID:-//ChamberMaster//Event Calendar 2.0//EN
METHOD:PUBLISH
X-PUBLISHED-TTL:P3D
REFRESH-INTERVAL:P3D
CALSCALE:GREGORIAN
BEGIN:VEVENT
DTSTART:20140208T190000Z
DTEND:20140208T220000Z
X-MICROSOFT-CDO-ALLDAYEVENT:FALSE
SUMMARY:Red Path Gallery Second Saturday Art Walk
DESCRIPTION:Red Path Gallery Second Saturday Art Walk  -  Stan Mitchell will be playing from 2:00 pm to 4:00 pm    http://www.redpathgallery.com
X-ALT-DESC;FMTTYPE=text/html:Red Path Gallery Second Saturday Art Walk&nbsp\; -&nbsp\; Stan Mitchell will be playing from 2:00 pm to 4:00 pm&nbsp\;&nbsp\;&nbsp\;&nbsp\;<a href="http://www.redpathgallery.com">http://www.redpathgallery.com</a>
LOCATION:Red Path Gallery 514 Seward St. Seward\, NE
UID:e.865.3441
SEQUENCE:3
DTSTAMP:20260421T141518Z
URL:https://business.cultivatesewardcounty.com/events/details/red-path-gallery-second-saturday-art-walk-02-08-2014-3441
END:VEVENT

END:VCALENDAR
