BEGIN:VCALENDAR
VERSION:2.0
PRODID:-//ChamberMaster//Event Calendar 2.0//EN
METHOD:PUBLISH
X-PUBLISHED-TTL:P3D
REFRESH-INTERVAL:P3D
CALSCALE:GREGORIAN
BEGIN:VEVENT
DTSTART:20140406T180000Z
DTEND:20140406T210000Z
X-MICROSOFT-CDO-ALLDAYEVENT:FALSE
SUMMARY:Red Path Gallery Reception & Open House Cathy Cattle
DESCRIPTION:Red Path Gallery Reception & Open House Cathy Cattle  -  "Artistic Inspiration in Thread"\n\n\n\nhttp://www.redpathgallery.com
X-ALT-DESC;FMTTYPE=text/html:Red Path Gallery Reception &amp\; Open House Cathy Cattle&nbsp\; -&nbsp\; &quot\;Artistic Inspiration in Thread&quot\;<br />\n<br />\n<a href="http://www.redpathgallery.com">http://www.redpathgallery.com</a>
LOCATION:Red Path Gallery 514 Seward St. Seward\, NE
UID:e.865.3530
SEQUENCE:3
DTSTAMP:20260421T112714Z
URL:https://business.cultivatesewardcounty.com/events/details/red-path-gallery-reception-open-house-cathy-cattle-04-06-2014-3530
END:VEVENT

END:VCALENDAR
