BEGIN:VCALENDAR
VERSION:2.0
PRODID:-//ChamberMaster//Event Calendar 2.0//EN
METHOD:PUBLISH
X-PUBLISHED-TTL:P3D
REFRESH-INTERVAL:P3D
CALSCALE:GREGORIAN
BEGIN:VEVENT
DTSTART:20140118T200000Z
DTEND:20140118T220000Z
X-MICROSOFT-CDO-ALLDAYEVENT:FALSE
SUMMARY:Red Path Gallery Paint and Wine Workshop
DESCRIPTION:Red Path Gallery Paint and Wine Workshop  -  No artistic experience needed for these workshops! Whether you are a seasoned artist or can't draw a straight line\, you will have a great time setting your creative spirit free.  Sign up with your friends\, relax and have fun! \n\n\n\nhttp://www.redpathgallery.com
X-ALT-DESC;FMTTYPE=text/html:Red Path Gallery Paint and Wine Workshop&nbsp\; -&nbsp\; No artistic experience needed for these workshops! Whether you are a seasoned artist or can&#39\;t draw a straight line\, you will have a great time setting your creative spirit free. &nbsp\;Sign up with your friends\, relax and have fun!&nbsp\;<br />\n<br />\n<a href="http://www.redpathgallery.com">http://www.redpathgallery.com</a>
LOCATION:Red Path Gallery 514 Seward St. Seward\, NE
UID:e.865.3447
SEQUENCE:3
DTSTAMP:20260421T153020Z
URL:https://business.cultivatesewardcounty.com/events/details/red-path-gallery-paint-and-wine-workshop-01-18-2014-3447
END:VEVENT

END:VCALENDAR
