BEGIN:VCALENDAR
VERSION:2.0
PRODID:-//ChamberMaster//Event Calendar 2.0//EN
METHOD:PUBLISH
X-PUBLISHED-TTL:P3D
REFRESH-INTERVAL:P3D
CALSCALE:GREGORIAN
BEGIN:VEVENT
DTSTART:20140301T160000Z
DTEND:20140301T180000Z
X-MICROSOFT-CDO-ALLDAYEVENT:FALSE
SUMMARY:Red Path Gallery Open Studio Drawing Session
DESCRIPTION:Red Path Gallery Open Studio Drawing Session -  open to high school\, college and adult ages.  Bring your sketchbooks\, drawing pencils and other drawing supplies.  Work on your drawing projects and get help with techniques and ideas from Resident Artist\, Melissa L. R. Sinner.  Additional art supplies and resources will also be available at the studio to use and experiment with.    http://www. redpathgallery.com
X-ALT-DESC;FMTTYPE=text/html:Red Path Gallery Open Studio Drawing Session -&nbsp\; open to high school\, college and adult ages.&nbsp\; Bring your sketchbooks\, drawing pencils and other drawing supplies.&nbsp\; Work on your drawing projects and get help with techniques and ideas from Resident Artist\, Melissa L. R. Sinner.&nbsp\; Additional art supplies and resources will also be available at the studio to use and experiment with.&nbsp\;&nbsp\;&nbsp\; <a href="http://www. redpathgallery.com">http://www. redpathgallery.com</a>
LOCATION:Red Path Gallery 514 Seward St. Seward\, NE
UID:e.865.3506
SEQUENCE:3
DTSTAMP:20260421T125827Z
URL:https://business.cultivatesewardcounty.com/events/details/red-path-gallery-open-studio-drawing-session-03-01-2014-3506
END:VEVENT

END:VCALENDAR
