BEGIN:VCALENDAR
VERSION:2.0
PRODID:-//ChamberMaster//Event Calendar 2.0//EN
METHOD:PUBLISH
X-PUBLISHED-TTL:P3D
REFRESH-INTERVAL:P3D
CALSCALE:GREGORIAN
BEGIN:VEVENT
DTSTART:20140118T160000Z
DTEND:20140118T180000Z
X-MICROSOFT-CDO-ALLDAYEVENT:FALSE
SUMMARY:Red Path Gallery Kids & Parents Workshop
DESCRIPTION:Red Path Gallery Kids & Parents Workshop \n\n\n\nhttp://www.redpathgallery.com
X-ALT-DESC;FMTTYPE=text/html:Red Path Gallery Kids &amp\; Parents Workshop&nbsp\;<br />\n<br />\n<a href="http://www.redpathgallery.com">http://www.redpathgallery.com</a>
LOCATION:Red Path Gallery 514 Seward St. Seward\, NE
UID:e.865.3446
SEQUENCE:3
DTSTAMP:20260421T165522Z
URL:https://business.cultivatesewardcounty.com/events/details/red-path-gallery-kids-parents-workshop-01-18-2014-3446
END:VEVENT

END:VCALENDAR
