BEGIN:VCALENDAR
VERSION:2.0
PRODID:-//ChamberMaster//Event Calendar 2.0//EN
METHOD:PUBLISH
X-PUBLISHED-TTL:P3D
REFRESH-INTERVAL:P3D
CALSCALE:GREGORIAN
BEGIN:VEVENT
DTSTART:20140308T010000Z
DTEND:20140308T020000Z
X-MICROSOFT-CDO-ALLDAYEVENT:FALSE
SUMMARY:Red Path Gallery-Jimmy Steinauer-Acoustic Solo
DESCRIPTION:Jimmy Steinauer Acoustic Solo
X-ALT-DESC;FMTTYPE=text/html:Jimmy Steinauer Acoustic Solo
LOCATION:Red Path Gallery\, 514 Seward St.
UID:e.865.3572
SEQUENCE:3
DTSTAMP:20260421T130447Z
URL:https://business.cultivatesewardcounty.com/events/details/red-path-gallery-jimmy-steinauer-acoustic-solo-03-07-2014-3572
END:VEVENT

END:VCALENDAR
