BEGIN:VCALENDAR
VERSION:2.0
PRODID:-//ChamberMaster//Event Calendar 2.0//EN
METHOD:PUBLISH
X-PUBLISHED-TTL:P3D
REFRESH-INTERVAL:P3D
CALSCALE:GREGORIAN
BEGIN:VEVENT
DTSTART:20130920T000000Z
DTEND:20130920T010000Z
X-MICROSOFT-CDO-ALLDAYEVENT:FALSE
SUMMARY:Red Path Gallery House Concert
DESCRIPTION:Red Path Gallery House Concert with Ian McFeron & Alisa Milner\n\n\n\nhttp://www.redpathgallery.com/
X-ALT-DESC;FMTTYPE=text/html:Red Path Gallery House Concert with Ian McFeron &amp\; Alisa Milner<br />\n<br />\n<a href="http://www.redpathgallery.com/">http://www.redpathgallery.com/ </a><br />\n
LOCATION:Red Path Gallery 514 Seward St. Seward\, NE
UID:e.865.2894
SEQUENCE:3
DTSTAMP:20260421T204058Z
URL:https://business.cultivatesewardcounty.com/events/details/red-path-gallery-house-concert-09-19-2013-2894
END:VEVENT

END:VCALENDAR
