BEGIN:VCALENDAR
VERSION:2.0
PRODID:-//ChamberMaster//Event Calendar 2.0//EN
METHOD:PUBLISH
X-PUBLISHED-TTL:P3D
REFRESH-INTERVAL:P3D
CALSCALE:GREGORIAN
BEGIN:VEVENT
DTSTART:20140525T180000Z
DTEND:20140525T210000Z
X-MICROSOFT-CDO-ALLDAYEVENT:FALSE
SUMMARY:Red Path Gallery Guest Artist Cheryl Richter Open House
DESCRIPTION:Red Path Gallery Guest Artist Cheryl Richter Open House - Digital Photo Manipulation - "Chimera" - a creation of the imagination\, especially a wild creation.  Join Cheryl from 1 pm to 4 pm in the Dream Catcher Studio at Red Path Gallery.  http://www.redpathgallery.com
X-ALT-DESC;FMTTYPE=text/html:Red Path Gallery Guest Artist Cheryl Richter Open House - Digital Photo Manipulation - &quot\;Chimera&quot\; - a creation of the imagination\, especially a wild creation.&nbsp\; Join Cheryl from 1 pm to 4 pm in the Dream Catcher Studio at Red Path Gallery.&nbsp\; <a href="http://www.redpathgallery.com">http://www.redpathgallery.com</a>
LOCATION:Red Path Gallery 514 Seward St. Seward\, NE
UID:e.865.3853
SEQUENCE:3
DTSTAMP:20260421T095754Z
URL:https://business.cultivatesewardcounty.com/events/details/red-path-gallery-guest-artist-cheryl-richter-open-house-05-25-2014-3853
END:VEVENT

END:VCALENDAR
