BEGIN:VCALENDAR
VERSION:2.0
PRODID:-//ChamberMaster//Event Calendar 2.0//EN
METHOD:PUBLISH
X-PUBLISHED-TTL:P3D
REFRESH-INTERVAL:P3D
CALSCALE:GREGORIAN
BEGIN:VEVENT
DTSTART;VALUE=DATE:20130927
DTEND;VALUE=DATE:20130930
TRANSP:TRANSPARENT
X-MICROSOFT-CDO-ALLDAYEVENT:TRUE
SUMMARY:Red Path Gallery GRAND OPENING
DESCRIPTION:Red Path Gallery GRAND OPENING  -\n\n*  Music by Stan Mitchell each day\n\n*  Guest appearance by Miss Nebraska\, JaCee Pilkington 5 - 7pm on Friday\, Sept. 27th\n\n*  Photo Walk led by Rachael Gray at 4pm on Saturday\, Sept. 28th\n\n*  Talk by Professor Joe Starita\, author of I Am a Man' Chief Standing Bear's Journey for Justice   -  2pm on Sunday\, Sept 29th with Q & A session following.
X-ALT-DESC;FMTTYPE=text/html:Red Path Gallery GRAND OPENING&nbsp\; -<br />\n*&nbsp\; Music by Stan Mitchell each day<br />\n*&nbsp\;&nbsp\;Guest appearance by Miss Nebraska\, JaCee Pilkington 5 - 7pm on Friday\, Sept. 27th<br />\n*&nbsp\; Photo Walk led by Rachael Gray at 4pm on Saturday\, Sept. 28th<br />\n*&nbsp\;&nbsp\;Talk by Professor Joe Starita\, author of <em>I Am a Man&#39\; Chief Standing Bear&#39\;s Journey for Justice&nbsp\;&nbsp\; -&nbsp\; </em>2pm on Sunday\, Sept 29th with Q &amp\; A session following.
LOCATION:Red Path Gallery 514 Seward Street Seward\, NE
UID:e.865.2895
SEQUENCE:3
DTSTAMP:20260421T214322Z
URL:https://business.cultivatesewardcounty.com/events/details/red-path-gallery-grand-opening-09-27-2013-2895
END:VEVENT

END:VCALENDAR
