BEGIN:VCALENDAR
VERSION:2.0
PRODID:-//ChamberMaster//Event Calendar 2.0//EN
METHOD:PUBLISH
X-PUBLISHED-TTL:P3D
REFRESH-INTERVAL:P3D
CALSCALE:GREGORIAN
BEGIN:VEVENT
DTSTART:20131201T003000Z
DTEND:20131201T020000Z
X-MICROSOFT-CDO-ALLDAYEVENT:FALSE
SUMMARY:Red Path Gallery "Backroads" Acoustic Duo
DESCRIPTION:Red Path Gallery "Backroads" Acoustic Duo featuring Andrea von Kampen and Jimmy Steinauer
X-ALT-DESC;FMTTYPE=text/html:Red Path Gallery &quot\;Backroads&quot\; Acoustic Duo featuring Andrea von Kampen and Jimmy Steinauer
LOCATION:Red Path Gallery & Tasting Room 514 Seward St. Seward\, NE
UID:e.865.3347
SEQUENCE:3
DTSTAMP:20260421T175919Z
URL:https://business.cultivatesewardcounty.com/events/details/red-path-gallery-backroads-acoustic-duo-11-30-2013-3347
END:VEVENT

END:VCALENDAR
