BEGIN:VCALENDAR
VERSION:2.0
PRODID:-//ChamberMaster//Event Calendar 2.0//EN
METHOD:PUBLISH
X-PUBLISHED-TTL:P3D
REFRESH-INTERVAL:P3D
CALSCALE:GREGORIAN
BEGIN:VEVENT
DTSTART:20140322T000000Z
DTEND:20140322T013000Z
X-MICROSOFT-CDO-ALLDAYEVENT:FALSE
SUMMARY:Red Path Gallery-Backroads Acoustic Duo
DESCRIPTION:The Backroads Acoustic Duo
X-ALT-DESC;FMTTYPE=text/html:The Backroads Acoustic Duo
LOCATION:Red Path Gallery\, 514 Seward St.
UID:e.865.3571
SEQUENCE:3
DTSTAMP:20260421T130144Z
URL:https://business.cultivatesewardcounty.com/events/details/red-path-gallery-backroads-acoustic-duo-03-21-2014-3571
END:VEVENT

END:VCALENDAR
