BEGIN:VCALENDAR
VERSION:2.0
PRODID:-//ChamberMaster//Event Calendar 2.0//EN
METHOD:PUBLISH
X-PUBLISHED-TTL:P3D
REFRESH-INTERVAL:P3D
CALSCALE:GREGORIAN
BEGIN:VEVENT
DTSTART:20131102T150000Z
DTEND:20131102T210000Z
X-MICROSOFT-CDO-ALLDAYEVENT:FALSE
SUMMARY:Red Path Gallery Art Mix Paint and Wine Workshop with Melissa
DESCRIPTION:Red Path Gallery Art Mix and Wine Workshops with Melissa.  No artistic experience needed for this workshop!  Whether you are a seasoned artist or can't draw a straight line\, you will have a great time setting your creative self free.  Sign your friends up\, relax and have fun!! Two classes offered: 10:00am - noon and 2:00-4:00pm\n\n\n\nAdditional workshops will be held on November 16th and 23rd and December 7th\, 21st and 28th.  http://www.redpathgallery.com
X-ALT-DESC;FMTTYPE=text/html:Red Path Gallery Art Mix and Wine Workshops with Melissa.&nbsp\; No artistic experience needed for this workshop!&nbsp\; Whether you are a seasoned artist or can&#39\;t draw a straight line\, you will have a great time setting your creative self free.&nbsp\; Sign your friends up\, relax and have fun!! Two classes offered: 10:00am - noon and 2:00-4:00pm<br />\n<br />\nAdditional workshops will be held on November 16th and 23rd and December 7th\, 21st and 28th.&nbsp\; <a href="http://www.redpathgallery.com">http://www.redpathgallery.com</a><br />\n<br />\n
LOCATION:Red Path Gallery & Tasting Room 514 Seward St. Seward\, NE
UID:e.865.3343
SEQUENCE:3
DTSTAMP:20260421T191721Z
URL:https://business.cultivatesewardcounty.com/events/details/red-path-gallery-art-mix-paint-and-wine-workshop-with-melissa-11-02-2013-3343
END:VEVENT

END:VCALENDAR
