BEGIN:VCALENDAR
VERSION:2.0
PRODID:-//ChamberMaster//Event Calendar 2.0//EN
METHOD:PUBLISH
X-PUBLISHED-TTL:P3D
REFRESH-INTERVAL:P3D
CALSCALE:GREGORIAN
BEGIN:VEVENT
DTSTART:20130625T150000Z
DTEND:20130625T180000Z
X-MICROSOFT-CDO-ALLDAYEVENT:FALSE
SUMMARY:Recycling Center
DESCRIPTION:Seward Recycling Center open.  People are encouraged to drop off your sorted recycled materials.
X-ALT-DESC;FMTTYPE=text/html:Seward Recycling Center open.&nbsp\; People are encouraged to drop off your sorted recycled materials.
LOCATION:340 South 7th St.
UID:e.865.2740
SEQUENCE:3
DTSTAMP:20260422T002831Z
URL:https://business.cultivatesewardcounty.com/events/details/recycling-center-06-25-2013-2740
END:VEVENT

END:VCALENDAR
