BEGIN:VCALENDAR
VERSION:2.0
PRODID:-//ChamberMaster//Event Calendar 2.0//EN
METHOD:PUBLISH
X-PUBLISHED-TTL:P3D
REFRESH-INTERVAL:P3D
CALSCALE:GREGORIAN
BEGIN:VEVENT
DTSTART:20130601T143000Z
DTEND:20130601T163000Z
X-MICROSOFT-CDO-ALLDAYEVENT:FALSE
SUMMARY:Recycling Center
DESCRIPTION:Seward Recycling Center open.  People are encouraged to drop off your sorted recycled materials.  Staffed by St. John Human Care Board.
X-ALT-DESC;FMTTYPE=text/html:Seward Recycling Center open.&nbsp\; People are encouraged to drop off your sorted recycled materials.&nbsp\; Staffed by St. John Human Care Board. 
LOCATION:340 South 7th St.
UID:e.865.2296
SEQUENCE:3
DTSTAMP:20260422T002723Z
URL:https://business.cultivatesewardcounty.com/events/details/recycling-center-06-01-2013-2296
END:VEVENT

END:VCALENDAR
