BEGIN:VCALENDAR
VERSION:2.0
PRODID:-//ChamberMaster//Event Calendar 2.0//EN
METHOD:PUBLISH
X-PUBLISHED-TTL:P3D
REFRESH-INTERVAL:P3D
CALSCALE:GREGORIAN
BEGIN:VEVENT
DTSTART:20121003T220000Z
DTEND:20121003T223000Z
X-MICROSOFT-CDO-ALLDAYEVENT:FALSE
SUMMARY:Reading Invasion
DESCRIPTION:Bring a chair or blanket and your favorite book (a banned book\, if you dare)\, and join Chapters' staff and the Friends of the Seward Library for Seward's first-ever Reading Invasion on the Seward County Courthouse Lawn.  A children's program will be led by library staff at the same time.  Celebrate your "freadom" by reading with friends.
X-ALT-DESC;FMTTYPE=text/html:Bring a chair or blanket and your favorite book (a banned book\, if you dare)\, and join Chapters&#39\; staff and the Friends of the Seward Library for Seward&#39\;s first-ever Reading Invasion on the Seward County Courthouse Lawn.&nbsp\; A children&#39\;s program will be led by library staff at the same time.&nbsp\; Celebrate your &quot\;freadom&quot\; by reading with friends.
LOCATION:Seward County Courthouse Lawn
UID:e.865.1717
SEQUENCE:3
DTSTAMP:20260422T111858Z
URL:https://business.cultivatesewardcounty.com/events/details/reading-invasion-10-03-2012-1717
END:VEVENT

END:VCALENDAR
