BEGIN:VCALENDAR
VERSION:2.0
PRODID:-//ChamberMaster//Event Calendar 2.0//EN
METHOD:PUBLISH
X-PUBLISHED-TTL:P3D
REFRESH-INTERVAL:P3D
CALSCALE:GREGORIAN
BEGIN:VEVENT
DTSTART:20130302T170000Z
DTEND:20130302T180000Z
X-MICROSOFT-CDO-ALLDAYEVENT:FALSE
SUMMARY:Read Across America Day Celebration
DESCRIPTION:In honor of Dr. Seuss's birthday\, you're invited to a stupendous celebration of reading with Lt. Shane Martin.\n\nJoin us for a Dr. Seuss story\, fun activity\, and birthday cake!
X-ALT-DESC;FMTTYPE=text/html:In honor of Dr. Seuss&rsquo\;s birthday\, you&#39\;re invited to a stupendous celebration of reading with Lt. Shane Martin.<br />\nJoin us for a Dr. Seuss story\, fun activity\, and birthday cake!
LOCATION:Chapters Books & Gifts
UID:e.865.1751
SEQUENCE:3
DTSTAMP:20260422T044456Z
URL:https://business.cultivatesewardcounty.com/events/details/read-across-america-day-celebration-03-02-2013-1751
END:VEVENT

END:VCALENDAR
