BEGIN:VCALENDAR
VERSION:2.0
PRODID:-//ChamberMaster//Event Calendar 2.0//EN
METHOD:PUBLISH
X-PUBLISHED-TTL:P3D
REFRESH-INTERVAL:P3D
CALSCALE:GREGORIAN
BEGIN:VEVENT
DTSTART:20130912T130000Z
DTEND:20130912T220000Z
X-MICROSOFT-CDO-ALLDAYEVENT:FALSE
SUMMARY:Quilt Show at GREENE HOUSE Assisted Living Community
DESCRIPTION:Come view the many sizes and varieties of hand crafted quilts on display at the Greene House.
X-ALT-DESC;FMTTYPE=text/html:Come view the many sizes and varieties of hand crafted quilts on display at the Greene House.
LOCATION:Greene House 600 Church Street Seward\, NE 68434
UID:e.865.3245
SEQUENCE:3
DTSTAMP:20260421T204941Z
URL:https://business.cultivatesewardcounty.com/events/details/quilt-show-at-greene-house-assisted-living-community-09-12-2013-3245
END:VEVENT

END:VCALENDAR
