BEGIN:VCALENDAR
VERSION:2.0
PRODID:-//ChamberMaster//Event Calendar 2.0//EN
METHOD:PUBLISH
X-PUBLISHED-TTL:P3D
REFRESH-INTERVAL:P3D
CALSCALE:GREGORIAN
BEGIN:VEVENT
DTSTART;VALUE=DATE:20130725
DTEND;VALUE=DATE:20130730
TRANSP:TRANSPARENT
X-MICROSOFT-CDO-ALLDAYEVENT:TRUE
SUMMARY:Quilt Nebraska 2013 -Nebraska State Quilting Convention
DESCRIPTION:Quilt Nebraska 2013  -  Nebraska State Quilting Convention\n\n\n\nhttp://www.nsqg.org/quiltnebraska.html
X-ALT-DESC;FMTTYPE=text/html:Quilt Nebraska 2013&nbsp\; -&nbsp\; Nebraska State Quilting Convention<br />\n<br />\nhttp<a href="http://www.nsqg.org/quiltnebraska.html">://www.nsqg.org/quiltnebraska.htm</a>l
LOCATION:Concordia University 800 North Columbia Seward\, NE
UID:e.865.2829
SEQUENCE:3
DTSTAMP:20260421T231207Z
URL:https://business.cultivatesewardcounty.com/events/details/quilt-nebraska-2013-nebraska-state-quilting-convention-07-25-2013-2829
END:VEVENT

END:VCALENDAR
