BEGIN:VCALENDAR
VERSION:2.0
PRODID:-//ChamberMaster//Event Calendar 2.0//EN
METHOD:PUBLISH
X-PUBLISHED-TTL:P3D
REFRESH-INTERVAL:P3D
CALSCALE:GREGORIAN
BEGIN:VEVENT
DTSTART:20111027T230000Z
DTEND:20111028T010000Z
X-MICROSOFT-CDO-ALLDAYEVENT:FALSE
SUMMARY:Project Pumpkin
DESCRIPTION:Residents of David Hall decorate\, pass out candy and welcome trick-or-treating children and their parents in the Seward community.
X-ALT-DESC;FMTTYPE=text/html:Residents of David Hall decorate\, pass out candy and welcome trick-or-treating children and their parents in the Seward community.
LOCATION:David Hall\, Concordia University
UID:e.865.1719
SEQUENCE:3
DTSTAMP:20260424T154538Z
URL:https://business.cultivatesewardcounty.com/events/details/project-pumpkin-10-27-2011-1719
END:VEVENT

END:VCALENDAR
