BEGIN:VCALENDAR
VERSION:2.0
PRODID:-//ChamberMaster//Event Calendar 2.0//EN
METHOD:PUBLISH
X-PUBLISHED-TTL:P3D
REFRESH-INTERVAL:P3D
CALSCALE:GREGORIAN
BEGIN:VEVENT
DTSTART:20121018T133000Z
DTEND:20121018T163000Z
X-MICROSOFT-CDO-ALLDAYEVENT:FALSE
SUMMARY:Professional Development Seminar 10/18/2012
DESCRIPTION:"Success on Purpose" will be presented by Bridget Lynch\, Director of Member Services for the Greater Omaha Chamber of Commerce\, and will address the fundamental skills every person dealing with the public must have. No matter what your career choice\, be more confident and more successful when you have the basics. Examine the components of business success and leave with your own workable plan to succeed. Sponsored by the Professional Development Team of the Seward Area Chamber of Commerce.  See website for detailed brochure.
X-ALT-DESC;FMTTYPE=text/html:&quot\;Success on Purpose&quot\; will be presented by Bridget Lynch\, Director of Member Services for the Greater Omaha Chamber of Commerce\, and will address the fundamental skills every person dealing with the public must have. No matter what your career choice\, be more confident and more successful when you have the basics. Examine the components of business success and leave with your own workable plan to succeed. Sponsored by the Professional Development Team of the Seward Area Chamber of Commerce.&nbsp\; See website for detailed brochure.
LOCATION:Seward Civic Center\, 616 Bradford Street
UID:e.865.1730
SEQUENCE:3
DTSTAMP:20260422T111758Z
URL:https://business.cultivatesewardcounty.com/events/details/professional-development-seminar-10-18-2012-10-18-2012-1730
END:VEVENT

END:VCALENDAR
