BEGIN:VCALENDAR
VERSION:2.0
PRODID:-//ChamberMaster//Event Calendar 2.0//EN
METHOD:PUBLISH
X-PUBLISHED-TTL:P3D
REFRESH-INTERVAL:P3D
CALSCALE:GREGORIAN
BEGIN:VEVENT
DTSTART:20130427T150000Z
DTEND:20130427T190000Z
X-MICROSOFT-CDO-ALLDAYEVENT:FALSE
SUMMARY:Prescription Drug Take Back
DESCRIPTION:Seward Police Department Prescription Drug Takeback
X-ALT-DESC;FMTTYPE=text/html:Seward Police Department Prescription Drug Takeback
LOCATION:Seward Police Department 148 South 1st Street (along Highway 34) Seward NE
UID:e.865.2076
SEQUENCE:3
DTSTAMP:20260422T031610Z
URL:https://business.cultivatesewardcounty.com/events/details/prescription-drug-take-back-04-27-2013-2076
END:VEVENT

END:VCALENDAR
