BEGIN:VCALENDAR
VERSION:2.0
PRODID:-//ChamberMaster//Event Calendar 2.0//EN
METHOD:PUBLISH
X-PUBLISHED-TTL:P3D
REFRESH-INTERVAL:P3D
CALSCALE:GREGORIAN
BEGIN:VEVENT
DTSTART:20131006T150000Z
DTEND:20131006T213000Z
X-MICROSOFT-CDO-ALLDAYEVENT:FALSE
SUMMARY:Poker Run for Olde Glory
DESCRIPTION:Join us for a scenic countryside ride to benefit the Olde Glory Theatre & Community Hall. Registration 10:00 am - noon at Olde Glory\, 4th & Jackson Streets. Award 4:30 at Spare Time Lounge\, 4th & Seward. Stops in Valpariso\, Louisville\, Venice\, & Branched Oak Lake. Great Door Prizes. 50/50 Raffle. All vehicles welcome!
X-ALT-DESC;FMTTYPE=text/html:Join us for a scenic countryside ride to benefit the Olde Glory Theatre &amp\; Community Hall. Registration 10:00 am - noon at Olde Glory\, 4th &amp\; Jackson Streets. Award 4:30 at Spare Time Lounge\, 4th &amp\; Seward. Stops in Valpariso\, Louisville\, Venice\, &amp\; Branched Oak Lake. Great Door Prizes. 50/50 Raffle. All vehicles welcome!
LOCATION:Registration at the Olde Glory Theatre & Communtiy Hall\, 4th & Jackson Streets (former Presbyterian Church)
UID:e.865.3262
SEQUENCE:3
DTSTAMP:20260421T191518Z
URL:https://business.cultivatesewardcounty.com/events/details/poker-run-for-olde-glory-10-06-2013-3262
END:VEVENT

END:VCALENDAR
