BEGIN:VCALENDAR
VERSION:2.0
PRODID:-//ChamberMaster//Event Calendar 2.0//EN
METHOD:PUBLISH
X-PUBLISHED-TTL:P3D
REFRESH-INTERVAL:P3D
CALSCALE:GREGORIAN
BEGIN:VEVENT
DTSTART;VALUE=DATE:20130926
DTEND;VALUE=DATE:20130929
TRANSP:TRANSPARENT
X-MICROSOFT-CDO-ALLDAYEVENT:TRUE
SUMMARY:Plum Creek Literacy Festival
DESCRIPTION:Plum Creek Literacy Festival\n\nThursday\, September 26th - Children's Day for Seward & Lincoln Schools\n\nFriday\, September 27th - Children's Day for commuting schools\n\nSaturday\, September 28th - Adult Conference Day & Kevin Henkes luncheon\n\nRegistration forms on website.\n\n\n\nhttp://www.cune.edu/about/conferences-and-camps/plumcreek
X-ALT-DESC;FMTTYPE=text/html:Plum Creek Literacy Festival<br />\nThursday\, September 26th - Children&#39\;s Day for Seward &amp\; Lincoln Schools<br />\nFriday\, September 27th - Children&#39\;s Day for commuting schools<br />\nSaturday\, September 28th - Adult Conference Day &amp\; Kevin Henkes luncheon<br />\nRegistration forms on website.<br />\n<br />\nhttp://w<a href="http://www.cune.edu/about/conferences-and-camps/plumcreek">ww.cune.edu/about/conferences-and-camps/plumcreek </a><br />\n<br />\n<br />\n
LOCATION:Concordia University 800 N Columbia Avenue Seward\, NE
UID:e.865.2868
SEQUENCE:3
DTSTAMP:20260421T205007Z
URL:https://business.cultivatesewardcounty.com/events/details/plum-creek-literacy-festival-09-26-2013-2868
END:VEVENT

END:VCALENDAR
