BEGIN:VCALENDAR
VERSION:2.0
PRODID:-//ChamberMaster//Event Calendar 2.0//EN
METHOD:PUBLISH
X-PUBLISHED-TTL:P3D
REFRESH-INTERVAL:P3D
CALSCALE:GREGORIAN
BEGIN:VEVENT
DTSTART;VALUE=DATE:20140503
DTEND;VALUE=DATE:20140504
TRANSP:TRANSPARENT
X-MICROSOFT-CDO-ALLDAYEVENT:TRUE
SUMMARY:Plum Creek Classic Baseball Tournament
DESCRIPTION:Plum Creek Classic Baseball Tournament
X-ALT-DESC;FMTTYPE=text/html:Plum Creek Classic Baseball Tournament
LOCATION:Plum Creek Sports Complex 2222 Karol Kay Blvd. Seward\, NE
UID:e.865.3872
SEQUENCE:3
DTSTAMP:20260421T100824Z
URL:https://business.cultivatesewardcounty.com/events/details/plum-creek-classic-baseball-tournament-05-03-2014-3872
END:VEVENT

END:VCALENDAR
