BEGIN:VCALENDAR
VERSION:2.0
PRODID:-//ChamberMaster//Event Calendar 2.0//EN
METHOD:PUBLISH
X-PUBLISHED-TTL:P3D
REFRESH-INTERVAL:P3D
CALSCALE:GREGORIAN
BEGIN:VEVENT
DTSTART:20120823T150000Z
DTEND:20120823T150000Z
X-MICROSOFT-CDO-ALLDAYEVENT:FALSE
SUMMARY:Parkinson's Support Group
DESCRIPTION:The Parkinson's support group is hosted by Tabitha Home Health every 4th Thursday of the month at Heartland Park\n\n	Providing support with conversation and education for those in the community and surrounding area.
X-ALT-DESC;FMTTYPE=text/html:<div>\n	<var><span style="font-family: verdana"><span style="font-size: 12px">The Parkinson&#39\;s support group is hosted by Tabitha Home Health every 4th Thursday of the month at Heartland Park<br />\n	Providing support with conversation and education&nbsp\;for those in the community and surrounding area.</span></span></var><br />\n	&nbsp\;</div>\n
LOCATION:Heartland Park Senior Living
UID:e.865.1686
SEQUENCE:3
DTSTAMP:20260422T135838Z
URL:https://business.cultivatesewardcounty.com/events/details/parkinson-s-support-group-08-23-2012-1686
END:VEVENT

END:VCALENDAR
