BEGIN:VCALENDAR
VERSION:2.0
PRODID:-//ChamberMaster//Event Calendar 2.0//EN
METHOD:PUBLISH
X-PUBLISHED-TTL:P3D
REFRESH-INTERVAL:P3D
CALSCALE:GREGORIAN
BEGIN:VEVENT
DTSTART:20131208T183000Z
DTEND:20131208T223000Z
X-MICROSOFT-CDO-ALLDAYEVENT:FALSE
SUMMARY:Parade of Homes Tour - Concordia Scholarship Tour
DESCRIPTION:Concordia Scholarship Parade of Homes Tour  - have the opportunity to view several Seward homes decorated for the Christmas holiday.\n\n\n\nProceeds go toward scholarships for Seward students attending the Concordia University or Milford Southeast Community College\n\nhttp://www.cune.edu/Christmas
X-ALT-DESC;FMTTYPE=text/html:Concordia Scholarship Parade of Homes Tour&nbsp\; -&nbsp\;have the opportunity to view several Seward homes decorated for the Christmas holiday.<br />\n<br />\nProceeds go toward scholarships for Seward students attending the Concordia University or Milford Southeast Community College<br />\n<a href="http://www.cune.edu/Christmas">http://www.cune.edu/Christmas</a>
LOCATION:Throughout the community of Seward\, NE
UID:e.865.3370
SEQUENCE:3
DTSTAMP:20260421T163519Z
URL:https://business.cultivatesewardcounty.com/events/details/parade-of-homes-tour-concordia-scholarship-tour-12-08-2013-3370
END:VEVENT

END:VCALENDAR
